BEGIN:VCALENDAR
VERSION:2.0
PRODID:-//Kynokien - ECPv6.15.20//NONSGML v1.0//EN
CALSCALE:GREGORIAN
METHOD:PUBLISH
X-WR-CALNAME:Kynokien
X-ORIGINAL-URL:http://www.kynokien.nl
X-WR-CALDESC:Evenementen voor Kynokien
REFRESH-INTERVAL;VALUE=DURATION:PT1H
X-Robots-Tag:noindex
X-PUBLISHED-TTL:PT1H
BEGIN:VTIMEZONE
TZID:Europe/Amsterdam
BEGIN:DAYLIGHT
TZOFFSETFROM:+0100
TZOFFSETTO:+0200
TZNAME:CEST
DTSTART:20240331T010000
END:DAYLIGHT
BEGIN:STANDARD
TZOFFSETFROM:+0200
TZOFFSETTO:+0100
TZNAME:CET
DTSTART:20241027T010000
END:STANDARD
BEGIN:DAYLIGHT
TZOFFSETFROM:+0100
TZOFFSETTO:+0200
TZNAME:CEST
DTSTART:20250330T010000
END:DAYLIGHT
BEGIN:STANDARD
TZOFFSETFROM:+0200
TZOFFSETTO:+0100
TZNAME:CET
DTSTART:20251026T010000
END:STANDARD
BEGIN:DAYLIGHT
TZOFFSETFROM:+0100
TZOFFSETTO:+0200
TZNAME:CEST
DTSTART:20260329T010000
END:DAYLIGHT
BEGIN:STANDARD
TZOFFSETFROM:+0200
TZOFFSETTO:+0100
TZNAME:CET
DTSTART:20261025T010000
END:STANDARD
BEGIN:DAYLIGHT
TZOFFSETFROM:+0100
TZOFFSETTO:+0200
TZNAME:CEST
DTSTART:20270328T010000
END:DAYLIGHT
BEGIN:STANDARD
TZOFFSETFROM:+0200
TZOFFSETTO:+0100
TZNAME:CET
DTSTART:20271031T010000
END:STANDARD
END:VTIMEZONE
BEGIN:VEVENT
DTSTART;TZID=Europe/Amsterdam:20251103T193000
DTEND;TZID=Europe/Amsterdam:20260302T220000
DTSTAMP:20260422T024342
CREATED:20250222T185658Z
LAST-MODIFIED:20250921T074444Z
UID:981-1762198200-1772488800@www.kynokien.nl
SUMMARY:BFH cursus (16 avonden online)
DESCRIPTION:Op maandagavond 3 november 2025 starten we weer met een online Basiscursus Fokken en Houden van Honden (BFH).\nIn deze cursus maken we gebruik van de BFH lesstof van de Raad van Beheer\, en na afloop van de cursus kunnen via de Raad van Beheer desgewenst de officiële BFH examens afgelegd worden.\nDeze BFH cursus bestaat uit 16 maandagavonden van 19.30 tot 22.00 uur\, die in het najaar 2025 tot het voorjaar 2026 gegeven zullen worden door de docenten Marc Schellekens en Lida Reeskamp-Blok.\nHet is ook mogelijk afzonderlijke modules van deze cursus te volgen. We gaan uit van minimaal 10 en maximaal 20 cursisten.\n\nInschrijven kan via email info@kynokien.nl. \n\nDeze BFH cursus van 16 lessen kost in totaal 195 Euro\nSnelle aanmelders kunnen gebruik maken van een vroegboekkorting:\nBij aanmelden en betalen vóór 15 juni 2025 zijn de kosten voor de gehele cursus 175 Euro.\nBij aanmelden en betalen tussen 15 juni en 15 september 2025 wordt voor de complete cursus 185 Euro berekend.\nNa 15 september 2025 geldt het volledige bedrag van 195 Euro voor 16 lessen\n\nPrijzen per module:\nmodule 1: 3 lessen 45 Euro\nmodule 2: 4 lessen 60 Euro\nmodule 3: 3 lessen 45 Euro\nmodule 4: 2 lessen 30 Euro\nmodule 5: 2 lessen 30 Euro\nmodule 6: 2 lessen 30 Euro
URL:http://www.kynokien.nl/event/bfh-cursus-16-avonden-online-2/
LOCATION:online\, Online via Teams\, Nederland
CATEGORIES:BFH/VKK
ORGANIZER;CN="Stichting Kynokien":MAILTO:info@kynokien.nl
END:VEVENT
BEGIN:VEVENT
DTSTART;TZID=Europe/Amsterdam:20251103T193000
DTEND;TZID=Europe/Amsterdam:20260302T220000
DTSTAMP:20260422T024342
CREATED:20250222T190448Z
LAST-MODIFIED:20250921T074436Z
UID:987-1762198200-1772488800@www.kynokien.nl
SUMMARY:VKK cursus (16 avonden online)
DESCRIPTION:  \nOp maandagavond 3 november 2025 starten we weer met een online Voortgezette Kynologische Kennis (VKK).\nIn deze cursus maken we gebruik van de VKK lesstof van de Raad van Beheer\, en na afloop van de cursus kunnen via de Raad van Beheer desgewenst de officiële VKK examens afgelegd worden.\nDeze VKK cursus bestaat uit 16 maandagavonden die in het najaar 2025 tot het voorjaar 2026 gegeven zullen worden door de docenten Marc Schellekens en Lida Reeskamp-Blok.\nHet is ook mogelijk afzonderlijke modules van deze cursus te volgen. We gaan uit van minimaal 8 en maximaal 16 cursisten.\n\nInschrijven kan via email info@kynokien.nl. \n\nDeze VKK cursus van 16 lessen kost in totaal 195 Euro\nSnelle aanmelders kunnen gebruik maken van een vroegboekkorting:\nBij aanmelden en betalen vóór 15 juni 2025 zijn de kosten voor de gehele cursus 175 Euro.\nBij aanmelden en betalen tussen 15 juni en 15 september 2025 wordt voor de complete cursus 185 Euro berekend.\nNa 15 september 2025 geldt het volledige bedrag van 195 Euro voor 16 lessen\n\nPrijzen per module:\nmodule 7: 4 lessen 60 Euro\nmodule 8: 4 lessen 60 Euro\nmodule 10: 2 lessen 30 Euro\nmodule 11: 2 lessen 30 Euro\nmodule 12: 4 lessen 60 Euro
URL:http://www.kynokien.nl/event/vkk-cursus-16-avonden-online-2/
LOCATION:online\, Online via Teams\, Nederland
CATEGORIES:BFH/VKK
ORGANIZER;CN="Stichting Kynokien":MAILTO:info@kynokien.nl
END:VEVENT
END:VCALENDAR