BEGIN:VCALENDAR
VERSION:2.0
PRODID:-//Kynokien - ECPv6.15.20//NONSGML v1.0//EN
CALSCALE:GREGORIAN
METHOD:PUBLISH
X-WR-CALNAME:Kynokien
X-ORIGINAL-URL:http://www.kynokien.nl
X-WR-CALDESC:Evenementen voor Kynokien
REFRESH-INTERVAL;VALUE=DURATION:PT1H
X-Robots-Tag:noindex
X-PUBLISHED-TTL:PT1H
BEGIN:VTIMEZONE
TZID:Europe/Amsterdam
BEGIN:DAYLIGHT
TZOFFSETFROM:+0100
TZOFFSETTO:+0200
TZNAME:CEST
DTSTART:20240331T010000
END:DAYLIGHT
BEGIN:STANDARD
TZOFFSETFROM:+0200
TZOFFSETTO:+0100
TZNAME:CET
DTSTART:20241027T010000
END:STANDARD
BEGIN:DAYLIGHT
TZOFFSETFROM:+0100
TZOFFSETTO:+0200
TZNAME:CEST
DTSTART:20250330T010000
END:DAYLIGHT
BEGIN:STANDARD
TZOFFSETFROM:+0200
TZOFFSETTO:+0100
TZNAME:CET
DTSTART:20251026T010000
END:STANDARD
BEGIN:DAYLIGHT
TZOFFSETFROM:+0100
TZOFFSETTO:+0200
TZNAME:CEST
DTSTART:20260329T010000
END:DAYLIGHT
BEGIN:STANDARD
TZOFFSETFROM:+0200
TZOFFSETTO:+0100
TZNAME:CET
DTSTART:20261025T010000
END:STANDARD
BEGIN:DAYLIGHT
TZOFFSETFROM:+0100
TZOFFSETTO:+0200
TZNAME:CEST
DTSTART:20270328T010000
END:DAYLIGHT
BEGIN:STANDARD
TZOFFSETFROM:+0200
TZOFFSETTO:+0100
TZNAME:CET
DTSTART:20271031T010000
END:STANDARD
END:VTIMEZONE
BEGIN:VEVENT
DTSTART;TZID=Europe/Amsterdam:20260226T193000
DTEND;TZID=Europe/Amsterdam:20260226T220000
DTSTAMP:20260421T221727
CREATED:20260127T144754Z
LAST-MODIFIED:20260127T150126Z
UID:1042-1772134200-1772143200@www.kynokien.nl
SUMMARY:Theorie-avond Bouw en Beweging (1 avond online)
DESCRIPTION:Deze avondvullende voordracht over de functionele bouw en beweging van de hond laat zien hoe een goede hond gebouwd behoort te zijn\, en hoe de bouw van de hond van invloed is op het gangwerk en het uithoudingsvermogen van de hond. \nNiet alleen (aankomend) keurmeesters\, BFH- en VKK-cursisten\, kynologisch instructeurs en fokkers\, maar feitelijk iedere eigenaar die op een of andere manier actief is met z’n hond\, in jacht\, veldwerk\, jachthondentraining\, behendigheid of anderszins\, heeft te maken met de wijze waarop de hond is gebouwd en kan bewegen. En wie met z’n hond naar een clubmatch of tentoonstelling gaat zal na deze informatie-avond ineens veel meer begrijpen van de betekenis van de beschrijving in het keurverslag.  \nEen te ver naar voren liggende schouderpartij\, een te steile voorhand\, een te sterk hellend bekken en te weinig kniehoeking\, en de gevolgen daarvan voor het gangwerk\, na de presentatie Bouw & Beweging hoeft deze ingewikkelde materie geen geheimen meer te hebben! \nOok behandelen we in deze presentatie de relatie tussen functionele bouw en blessuregevoeligheid. \nEn we gaan kijken naar een antwoord op de intrigerende vraag: kun je het al zien als pup? \nDeze cursus wordt online gegeven via Microsoft Teams. \nDocent: Lida Reeskamp-Blok\nAantal deelnemers: minimaal 8 en maximaal 16\nKosten: 20 Euro \nAanmelden per email: info@kynokien.nl
URL:http://www.kynokien.nl/event/theorie-avond-bouw-en-beweging-1-avond-online/
LOCATION:online\, Online via Teams\, Nederland
CATEGORIES:Bouw & Beweging
ORGANIZER;CN="Stichting Kynokien":MAILTO:info@kynokien.nl
END:VEVENT
BEGIN:VEVENT
DTSTART;TZID=Europe/Amsterdam:20260218T193000
DTEND;TZID=Europe/Amsterdam:20260225T220000
DTSTAMP:20260421T221727
CREATED:20251019T180836Z
LAST-MODIFIED:20251019T181626Z
UID:1027-1771443000-1772056800@www.kynokien.nl
SUMMARY:Fokken voor beginners (2 avonden online)
DESCRIPTION:woensdagavond 18 februari 2026 19.30 uur: Fokken voor beginners – voorbereiding\, dekking & dracht (online) \nwoensdagavond 25 februari 2026 19.30 uur: Fokken voor beginners – geboorte & verzorging nest (online) \nAls je wilt gaan fokken zijn er zijn een heleboel goede boeken te vinden waarin alles staat beschreven wat je moet weten. Je kunt je in theorie helemaal voorbereiden op de dingen die komen gaan. Maar in de praktijk blijken er toch zaken te zijn die niet in de boeken staan. En wat moet je dan doen? \nBinnen het Kynokien team hebben we enkele ervaren fokkers en fokbegeleiders\, met tientallen jaren van ervaring. En die ervaring willen we graag delen. \nSamen met jullie willen wij in twee avonden de hele praktijk van het fokken doorlopen – van de dekking via de dracht en de geboorte naar het grootbrengen van het nest. Wat kan je allemaal tegenkomen en waar moet je op letten? Met veel voorbeelden uit de praktijk\, tips en trucs en voorbeelden wat je wel en wat je beter niet kunt doen. En natuurlijk kan je ook met je eigen vragen terecht. Wil je meer weten over bepaalde zaken\, zit je met dingen of heb je ervaringen hoe het goed of fout kan gaan\, er is ruimte op deze twee avonden om daar dieper op in te gaan. Deze cursus wordt online gegeven via Microsoft Teams. \nDocenten: Ans & Marc Schellekens\nAantal deelnemers: minimaal 8 en maximaal 16\nKosten: 50 Euro voor de gehele cursus van twee avonden\nAanmelden per email: info@kynokien.nl
URL:http://www.kynokien.nl/event/fokken-voor-beginners-2-avonden-online/
LOCATION:online\, Online via Teams\, Nederland
CATEGORIES:Fokken
ORGANIZER;CN="Stichting Kynokien":MAILTO:info@kynokien.nl
END:VEVENT
BEGIN:VEVENT
DTSTART;TZID=Europe/Amsterdam:20251209T193000
DTEND;TZID=Europe/Amsterdam:20251209T220000
DTSTAMP:20260421T221727
CREATED:20250926T182136Z
LAST-MODIFIED:20251102T213952Z
UID:1016-1765308600-1765317600@www.kynokien.nl
SUMMARY:Theorie-avond Bouw & Beweging (1 avond online)
DESCRIPTION:Deze avondvullende voordracht over de functionele bouw en beweging van de hond laat zien hoe een goede hond gebouwd behoort te zijn\, en hoe de bouw van de hond van invloed is op het gangwerk en het uithoudingsvermogen van de hond. \nNiet alleen (aankomend) keurmeesters\, BFH- en VKK-cursisten\, kynologisch instructeurs en fokkers\, maar feitelijk iedere eigenaar die op een of andere manier actief is met z’n hond\, in jacht\, veldwerk\, jachthondentraining\, behendigheid of anderszins\, heeft te maken met de wijze waarop de hond is gebouwd en kan bewegen. En wie met z’n hond naar een clubmatch of tentoonstelling gaat zal na deze informatie-avond ineens veel meer begrijpen van de betekenis van de beschrijving in het keurverslag.  \nEen te ver naar voren liggende schouderpartij\, een te steile voorhand\, een te sterk hellend bekken en te weinig kniehoeking\, en de gevolgen daarvan voor het gangwerk\, na de presentatie Bouw & Beweging hoeft deze ingewikkelde materie geen geheimen meer te hebben! \nOok behandelen we in deze presentatie de relatie tussen functionele bouw en blessuregevoeligheid. \nEn we gaan kijken naar een antwoord op de intrigerende vraag: kun je het al zien als pup? \nDeze cursus wordt online gegeven via Microsoft Teams. \nDocent: Lida Reeskamp-Blok\nAantal deelnemers: minimaal 8 en maximaal 16\nKosten: 20 Euro \nAanmelden per email: info@kynokien.nl
URL:http://www.kynokien.nl/event/theorie-avond-bouw-beweging-1-avond-online-3/
LOCATION:online\, Online via Teams\, Nederland
CATEGORIES:Bouw & Beweging
ORGANIZER;CN="Stichting Kynokien":MAILTO:info@kynokien.nl
END:VEVENT
END:VCALENDAR