BEGIN:VCALENDAR
VERSION:2.0
PRODID:-//Kynokien - ECPv6.15.20//NONSGML v1.0//EN
CALSCALE:GREGORIAN
METHOD:PUBLISH
X-ORIGINAL-URL:http://www.kynokien.nl
X-WR-CALDESC:Evenementen voor Kynokien
REFRESH-INTERVAL;VALUE=DURATION:PT1H
X-Robots-Tag:noindex
X-PUBLISHED-TTL:PT1H
BEGIN:VTIMEZONE
TZID:Europe/Amsterdam
BEGIN:DAYLIGHT
TZOFFSETFROM:+0100
TZOFFSETTO:+0200
TZNAME:CEST
DTSTART:20250330T010000
END:DAYLIGHT
BEGIN:STANDARD
TZOFFSETFROM:+0200
TZOFFSETTO:+0100
TZNAME:CET
DTSTART:20251026T010000
END:STANDARD
BEGIN:DAYLIGHT
TZOFFSETFROM:+0100
TZOFFSETTO:+0200
TZNAME:CEST
DTSTART:20260329T010000
END:DAYLIGHT
BEGIN:STANDARD
TZOFFSETFROM:+0200
TZOFFSETTO:+0100
TZNAME:CET
DTSTART:20261025T010000
END:STANDARD
BEGIN:DAYLIGHT
TZOFFSETFROM:+0100
TZOFFSETTO:+0200
TZNAME:CEST
DTSTART:20270328T010000
END:DAYLIGHT
BEGIN:STANDARD
TZOFFSETFROM:+0200
TZOFFSETTO:+0100
TZNAME:CET
DTSTART:20271031T010000
END:STANDARD
BEGIN:DAYLIGHT
TZOFFSETFROM:+0100
TZOFFSETTO:+0200
TZNAME:CEST
DTSTART:20280326T010000
END:DAYLIGHT
BEGIN:STANDARD
TZOFFSETFROM:+0200
TZOFFSETTO:+0100
TZNAME:CET
DTSTART:20281029T010000
END:STANDARD
END:VTIMEZONE
BEGIN:VEVENT
DTSTART;TZID=Europe/Amsterdam:20261102T193000
DTEND;TZID=Europe/Amsterdam:20270301T220000
DTSTAMP:20260421T215932
CREATED:20260207T094926Z
LAST-MODIFIED:20260207T095329Z
UID:1045-1793647800-1803938400@www.kynokien.nl
SUMMARY:BFH cursus (16 avonden online)
DESCRIPTION:Op maandagavond 2 november 2026 starten we weer met een online Basiscursus Fokken en Houden van Honden (BFH).\nIn deze cursus maken we gebruik van de BFH lesstof van de Raad van Beheer\, en na afloop van de cursus kunnen via de Raad van Beheer desgewenst de officiële BFH examens afgelegd worden.\nDeze BFH cursus bestaat uit 16 maandagavonden van 19.30 tot 22.00 uur\, die in het najaar 2026 tot het voorjaar 2027 gegeven zullen worden door de docenten Marc Schellekens en Lida Reeskamp-Blok.\nHet is ook mogelijk afzonderlijke modules van deze cursus te volgen. We gaan uit van minimaal 10 en maximaal 20 cursisten.\n\nInschrijven kan via email info@kynokien.nl. \n\nDeze BFH cursus van 16 lessen kost in totaal 195 Euro\nSnelle aanmelders kunnen gebruik maken van een vroegboekkorting:\nBij aanmelden en betalen vóór 15 juni 2026 zijn de kosten voor de gehele cursus 175 Euro.\nBij aanmelden en betalen tussen 15 juni en 15 september 2026 wordt voor de complete cursus 185 Euro berekend.\nNa 15 september 2026 geldt het volledige bedrag van 195 Euro voor 16 lessen\n\nPrijzen per module:\nmodule 1: 3 lessen 45 Euro\nmodule 2: 4 lessen 60 Euro\nmodule 3: 3 lessen 45 Euro\nmodule 4: 2 lessen 30 Euro\nmodule 5: 2 lessen 30 Euro\nmodule 6: 2 lessen 30 Euro
URL:http://www.kynokien.nl/event/bfh-cursus-16-avonden-online-3/
LOCATION:online\, Online via Teams\, Nederland
CATEGORIES:BFH/VKK
ORGANIZER;CN="Stichting Kynokien":MAILTO:info@kynokien.nl
END:VEVENT
BEGIN:VEVENT
DTSTART;TZID=Europe/Amsterdam:20261102T193000
DTEND;TZID=Europe/Amsterdam:20270301T220000
DTSTAMP:20260421T215932
CREATED:20260207T095050Z
LAST-MODIFIED:20260207T095640Z
UID:1047-1793647800-1803938400@www.kynokien.nl
SUMMARY:VKK cursus (16 avonden online)
DESCRIPTION:  \nOp maandagavond 2 november 2026 starten we weer met een online Voortgezette Kynologische Kennis (VKK).\nIn deze cursus maken we gebruik van de VKK lesstof van de Raad van Beheer\, en na afloop van de cursus kunnen via de Raad van Beheer desgewenst de officiële VKK examens afgelegd worden.\nDeze VKK cursus bestaat uit 16 maandagavonden die in het najaar 2026 tot het voorjaar 2027 gegeven zullen worden door de docenten Marc Schellekens en Lida Reeskamp-Blok.\nHet is ook mogelijk afzonderlijke modules van deze cursus te volgen. We gaan uit van minimaal 8 en maximaal 16 cursisten.\n\nInschrijven kan via email info@kynokien.nl. \n\nDeze VKK cursus van 16 lessen kost in totaal 195 Euro\nSnelle aanmelders kunnen gebruik maken van een vroegboekkorting:\nBij aanmelden en betalen vóór 15 juni 2026 zijn de kosten voor de gehele cursus 175 Euro.\nBij aanmelden en betalen tussen 15 juni en 15 september 2026 wordt voor de complete cursus 185 Euro berekend.\nNa 15 september 2026 geldt het volledige bedrag van 195 Euro voor 16 lessen\n\nPrijzen per module:\nmodule 7: 4 lessen 60 Euro\nmodule 8: 4 lessen 60 Euro\nmodule 10: 2 lessen 30 Euro\nmodule 11: 2 lessen 30 Euro\nmodule 12: 4 lessen 60 Euro
URL:http://www.kynokien.nl/event/vkk-cursus-16-avonden-online-3/
LOCATION:online\, Online via Teams\, Nederland
CATEGORIES:BFH/VKK
ORGANIZER;CN="Stichting Kynokien":MAILTO:info@kynokien.nl
END:VEVENT
BEGIN:VEVENT
DTSTART;TZID=Europe/Amsterdam:20270218T193000
DTEND;TZID=Europe/Amsterdam:20270225T220000
DTSTAMP:20260421T215932
CREATED:20260207T101604Z
LAST-MODIFIED:20260207T101903Z
UID:1054-1802979000-1803592800@www.kynokien.nl
SUMMARY:Fokken voor beginners (2 avonden online)
DESCRIPTION:dondrdagavond 18 februari 2027 19.30 uur: Fokken voor beginners – voorbereiding\, dekking & dracht (online) \ndonderdagavond 25 februari 2027 19.30 uur: Fokken voor beginners – geboorte & verzorging nest (online) \nAls je wilt gaan fokken zijn er zijn een heleboel goede boeken te vinden waarin alles staat beschreven wat je moet weten. Je kunt je in theorie helemaal voorbereiden op de dingen die komen gaan. Maar in de praktijk blijken er toch zaken te zijn die niet in de boeken staan. En wat moet je dan doen? \nBinnen het Kynokien team hebben we enkele ervaren fokkers en fokbegeleiders\, met tientallen jaren van ervaring. En die ervaring willen we graag delen. \nSamen met jullie willen wij in twee avonden de hele praktijk van het fokken doorlopen – van de dekking via de dracht en de geboorte naar het grootbrengen van het nest. Wat kan je allemaal tegenkomen en waar moet je op letten? Met veel voorbeelden uit de praktijk\, tips en trucs en voorbeelden wat je wel en wat je beter niet kunt doen. En natuurlijk kan je ook met je eigen vragen terecht. Wil je meer weten over bepaalde zaken\, zit je met dingen of heb je ervaringen hoe het goed of fout kan gaan\, er is ruimte op deze twee avonden om daar dieper op in te gaan. Deze cursus wordt online gegeven via Microsoft Teams. \nDocenten: Ans & Marc Schellekens\nAantal deelnemers: minimaal 8 en maximaal 20\nKosten: 50 Euro voor de gehele cursus van twee avonden\nAanmelden per email: info@kynokien.nl
URL:http://www.kynokien.nl/event/fokken-voor-beginners-2-avonden-online-2/
LOCATION:online\, Online via Teams\, Nederland
CATEGORIES:Fokken
ORGANIZER;CN="Stichting Kynokien":MAILTO:info@kynokien.nl
END:VEVENT
END:VCALENDAR